Workbook
Name OLE_LINK7: 'Detailed calculation'!$A$28

Sheet Data input
A1: Gantt chart for joint appointment procedures in Berlin
A2: This Gantt chart is for planning joint appointment procedures. It is based on the results of a working group on speeding up joint appointment procedures involving representatives of Freie Universität Berlin, Humboldt-Universität zu Berlin, Technische Universität Berlin and the Leibniz Association, which summarised idealised and generalised procedural steps for joint appointment procedures between September 2018 and February 2019.
A8: The following data can be entered to minimise the time taken and optimise the procedure:
A10: Mandatory field
A11: Procedure to be completed on: | B11: 44713 | C11: ="Procedure should start before "&TEXT('Detailed calculation'!G12, "TT.MM.JJJJ") -> Procedure should start before 06.01.2021
A13: Optional fields for dates (in chronological order) | B13: Date | C13: Comment
A14: Joint preliminary discussion | C14: =IF('Detailed calculation'!K14=FALSE, "Select an earlier committee appointment", (IF('Detailed calculation'!K14=TRUE, "Committee appointment allows completion in time", "Appointment should be before "&TEXT('Detailed calculation'!I14, "TT.MM.JJJJ")))) -> Appointment should be before 27.01.2021
A15: Meeting of the institute board (establish purpose, set up appointment committee, etc.) | C15: =IF('Detailed calculation'!K17=FALSE, "Select an earlier committee appointment", (IF('Detailed calculation'!K17=TRUE, "Committee appointment allows completion in time", "Appointment should be before "&TEXT('Detailed calculation'!I17, "TT.MM.JJJJ")))) -> Appointment should be before 24.03.2021
A16: Meeting of the faculty board (establish purpose, set up appointment committee, etc.) | C16: =IF('Detailed calculation'!K18=FALSE, "Select an earlier committee appointment", (IF('Detailed calculation'!K18=TRUE, "Committee appointment allows completion in time", "Appointment should be before "&TEXT('Detailed calculation'!I18, "TT.MM.JJJJ")))) -> Appointment should be before 07.04.2021
A17: Meeting of the academic senate | C17: =IF('Detailed calculation'!K19=FALSE, "Select an earlier committee appointment", (IF('Detailed calculation'!K19=TRUE, "Committee appointment allows completion in time", "Appointment should be before "&TEXT('Detailed calculation'!I19, "TT.MM.JJJJ")))) -> Appointment should be before 28.04.2021
A18: Meeting of the Executive Board | C18: =IF('Detailed calculation'!K21=FALSE, "Select an earlier committee appointment", (IF('Detailed calculation'!K21=TRUE, "Committee appointment allows completion in time", "Appointment should be before "&TEXT('Detailed calculation'!I21, "TT.MM.JJJJ")))) -> Appointment should be before 05.05.2021
A20: Constitutive meeting of the appointment committee | C20: =IF('Detailed calculation'!K26=FALSE, "Select an earlier committee appointment", (IF('Detailed calculation'!K26=TRUE, "Committee appointment allows completion in time", "Appointment should be before "&TEXT('Detailed calculation'!I26, "TT.MM.JJJJ")))) -> Appointment should be before 28.07.2021
A21: Second meeting of the appointment committee (interviews with applicants) | C21: =IF('Detailed calculation'!K28=FALSE, "Select an earlier committee appointment", (IF('Detailed calculation'!K28=TRUE, "Committee appointment allows completion in time", "Appointment should be before "&TEXT('Detailed calculation'!I28, "TT.MM.JJJJ")))) -> Appointment should be before 25.08.2021
A22: Third meeting of the appointment committee (shortlist; report) | C22: =IF('Detailed calculation'!K30=FALSE, "Select an earlier committee appointment", (IF('Detailed calculation'!K30=TRUE, "Committee appointment allows completion in time", "Appointment should be before "&TEXT('Detailed calculation'!I30, "TT.MM.JJJJ")))) -> Appointment should be before 01.12.2021
A24: Meeting of the Scientific Advisory Board of the Leibniz institute (shortlist) | C24: =IF('Detailed calculation'!K31=FALSE, "Select an earlier committee appointment", (IF('Detailed calculation'!K31=TRUE, "Committee appointment allows completion in time", "Appointment should be before "&TEXT('Detailed calculation'!I31, "TT.MM.JJJJ")))) -> Appointment should be before 29.12.2021
A25: Meeting of the institute committee of the Leibniz institute (shortlist) | C25: =IF('Detailed calculation'!K32=FALSE, "Select an earlier committee appointment", (IF('Detailed calculation'!K32=TRUE, "Committee appointment allows completion in time", "Appointment should be before "&TEXT('Detailed calculation'!I32, "TT.MM.JJJJ")))) -> Appointment should be before 12.01.2022
A26: Meeting of the Board of the Leibniz institute (shortlist) | C26: =IF('Detailed calculation'!K33=FALSE, "Select an earlier committee appointment", (IF('Detailed calculation'!K33=TRUE, "Committee appointment allows completion in time", "Appointment should be before "&TEXT('Detailed calculation'!I33, "TT.MM.JJJJ")))) -> Appointment should be before 19.01.2022
A28: Meeting of the faculty board (shortlist) | C28: =IF('Detailed calculation'!K34=FALSE, "Select an earlier committee appointment", (IF('Detailed calculation'!K34=TRUE, "Committee appointment allows completion in time", "Appointment should be before "&TEXT('Detailed calculation'!I34, "TT.MM.JJJJ")))) -> Appointment should be before 22.12.2021
A29: Meeting of the academic senate (shortlist) | C29: =IF('Detailed calculation'!K35=FALSE, "Select an earlier committee appointment", (IF('Detailed calculation'!K35=TRUE, "Committee appointment allows completion in time", "Appointment should be before "&TEXT('Detailed calculation'!I35, "TT.MM.JJJJ")))) -> Appointment should be before 12.01.2022
A30: Meeting of the Executive Board (shortlist) | C30: =IF('Detailed calculation'!K37=FALSE, "Select an earlier committee appointment", (IF('Detailed calculation'!K37=TRUE, "Committee appointment allows completion in time", "Appointment should be before "&TEXT('Detailed calculation'!I37, "TT.MM.JJJJ")))) -> Appointment should be before 19.01.2022
A32: Note:
A33: To display the Gantt chart correctly in days, the start and end dates of the process must be entered in the axis options.
A34: Does not take account of annual leave/public holidays, etc.
A36: For questions and comments, please contact: info@leibniz-gemeinschaft.de

Sheet Detailed calculation
A1: Detailed process overview | G1: Key:
A2: It is possible to modify the individual process steps by adjusting the duration. | G2: N := Non-university research institution
G3: U := University
G4: S := Berlin Senate
A5: The table can be modified by adjusting the duration in weeks | G5: Combinations (NU, NUS) mean several institutions are responsible
A7: The links are protected so that the table will continue to function even if entries are incorrect | G7: Does not take account of annual leave/public holidays, etc.
A9: Adjustments: | B9: possible | C9: possible | D9: possible | E9: not possible | F9: not possible | G9: not possible | I9: not possible | J9: not possible | K9: not possible
A10: Process steps | B10: Duration | C10: of which preparation | D10: of which possible overlap | E10: Duration | F10: Total time since start | G10: Start date | H10: Hilfsdatum (später ausblenden) | I10: End date | J10: Fixed date (must be earlier than end date) | K10: If an error message appears there is a scheduling conflict
A11: Unit | B11: Weeks | C11: Weeks | D11: Weeks | E11: Days | F11: Days | G11: Date | H11: Date | I11: Date | J11: Date
A12: Start of the procedure | B12: 0 | E12: =B12*7 -> 0 | F12: 0 | G12: =I12-(B12*7) -> 44202 | H12: =IF(ISNUMBER(J12),J12-(B12*7-D12*7),I12-(B12*7-D12*7)) -> 44202 | I12: =H13 -> 44202 | K12: =J12<I12 -> TRUE
A13: N: Expression of interest | B13: 1 | E13: =B13*7 -> 7 | F13: =G13-$G$12 -> 0 | G13: =I13-(B13*7) -> 44202 | H13: =IF(ISNUMBER(J13),J13-(B13*7-D13*7),I13-(B13*7-D13*7)) -> 44202 | I13: =H14 -> 44209 | K13: =J13<I13 -> TRUE
A14: UN: Joint discussion | B14: 2 | E14: =B14*7 -> 14 | F14: =G14-$G$12 -> 7 | G14: =I14-(B14*7) -> 44209 | H14: =IF(ISNUMBER(J14),J14-(B14*7-D14*7),I14-(B14*7-D14*7)) -> 44209 | I14: =H15 -> 44223 | J14: =IF(ISBLANK('Data input'!B14),"",'Data input'!B14) | K14: =IF(ISBLANK('Data input'!B14),"",J14<I14)
A15: U: Consultation institute level | B15: 2 | E15: =B15*7 -> 14 | F15: =G15-$G$12 -> 21 | G15: =I15-(B15*7) -> 44223 | H15: =IF(ISNUMBER(J15),J15-(B15*7-D15*7),I15-(B15*7-D15*7)) -> 44223 | I15: =H16 -> 44237 | K15: =J15<I15 -> TRUE
A16: U: Applications; drafts; scouting | B16: 4 | E16: =B16*7 -> 28 | F16: =G16-$G$12 -> 35 | G16: =I16-(B16*7) -> 44237 | H16: =IF(ISNUMBER(J16),J16-(B16*7-D16*7),I16-(B16*7-D16*7)) -> 44237 | I16: =H17 -> 44265 | K16: =J16<I16 -> TRUE
A17: U: Institute board | B17: 2 | C17: 2 | E17: =B17*7 -> 14 | F17: =G17-$G$12 -> 63 | G17: =I17-(B17*7) -> 44265 | H17: =IF(ISNUMBER(J17),J17-(B17*7-D17*7),I17-(B17*7-D17*7)) -> 44265 | I17: =H18 -> 44279 | J17: =IF(ISBLANK('Data input'!B15),"",'Data input'!B15) | K17: =IF(ISBLANK('Data input'!B15),"",J17<I17)
A18: U: Faculty board | B18: 2 | C18: 2 | E18: =B18*7 -> 14 | F18: =G18-$G$12 -> 77 | G18: =I18-(B18*7) -> 44279 | H18: =IF(ISNUMBER(J18),J18-(B18*7-D18*7),I18-(B18*7-D18*7)) -> 44279 | I18: =IF(H19<H20,H19,H20) -> 44293 | J18: =IF(ISBLANK('Data input'!B16),"",'Data input'!B16) | K18: =IF(ISBLANK('Data input'!B16),"",J18<I18)
A19: U: If appl. academic senate | B19: 3 | C19: 2 | E19: =B19*7 -> 21 | F19: =G19-$G$12 -> 91 | G19: =I19-(B19*7) -> 44293 | H19: =IF(ISNUMBER(J19),J19-(B19*7-D19*7),I19-(B19*7-D19*7)) -> 44293 | I19: =H21 -> 44314 | J19: =IF(ISBLANK('Data input'!B17),"",'Data input'!B17) | K19: =IF(ISBLANK('Data input'!B17),"",J19<I19)
A20: U: If appl. President’s office | B20: 3 | D20: 1 | E20: =B20*7 -> 21 | F20: =G20-$G$12 -> 91 | G20: =I20-(B20*7) -> 44293 | H20: =IF(ISNUMBER(J20),J20-(B20*7-D20*7),I20-(B20*7-D20*7)) -> 44300 | I20: =H21 -> 44314 | K20: =J20<I20 -> TRUE
A21: U: Executive Board | B21: 2 | C21: 1 | D21: 1 | E21: =B21*7 -> 14 | F21: =G21-$G$12 -> 105 | G21: =I21-(B21*7) -> 44307 | H21: =IF(ISNUMBER(J21),J21-(B21*7-D21*7),I21-(B21*7-D21*7)) -> 44314 | I21: =H22 -> 44321 | J21: =IF(ISBLANK('Data input'!B18),"",'Data input'!B18) | K21: =IF(ISBLANK('Data input'!B18),"",J21<I21)
A22: U: If appl. Board of Trustees | B22: 4 | C22: 2 | E22: =B22*7 -> 28 | F22: =G22-$G$12 -> 119 | G22: =I22-(B22*7) -> 44321 | H22: =IF(ISNUMBER(J22),J22-(B22*7-D22*7),I22-(B22*7-D22*7)) -> 44321 | I22: =H23 -> 44349 | K22: =J22<I22 -> TRUE
A23: S: Establish agreement | B23: 4 | E23: =B23*7 -> 28 | F23: =G23-$G$12 -> 147 | G23: =I23-(B23*7) -> 44349 | H23: =IF(ISNUMBER(J23),J23-(B23*7-D23*7),I23-(B23*7-D23*7)) -> 44349 | I23: =H25 -> 44377 | K23: =J23<I23 -> TRUE
A24: U: Prep. advertisement | B24: 4 | D24: 4 | E24: =B24*7 -> 28 | F24: =G24-$G$12 -> 147 | G24: =I24-(B24*7) -> 44349 | H24: =IF(ISNUMBER(J24),J24-(B24*7-D24*7),I24-(B24*7-D24*7)) -> 44377 | I24: =H25 -> 44377 | K24: =J24<I24 -> TRUE
A25: U: Publication | B25: 4 | E25: =B25*7 -> 28 | F25: =G25-$G$12 -> 175 | G25: =I25-(B25*7) -> 44377 | H25: =IF(ISNUMBER(J25),J25-(B25*7-D25*7),I25-(B25*7-D25*7)) -> 44377 | I25: =H26 -> 44405 | K25: =J25<I25 -> TRUE
A26: UN: Const. and 1st AC | B26: 4 | C26: 4 | D26: 4 | E26: =B26*7 -> 28 | F26: =G26-$G$12 -> 175 | G26: =I26-(B26*7) -> 44377 | H26: =IF(ISNUMBER(J26),J26-(B26*7-D26*7),I26-(B26*7-D26*7)) -> 44405 | I26: =H27 -> 44405 | J26: =IF(ISBLANK('Data input'!B20),"",'Data input'!B20) | K26: =IF(ISBLANK('Data input'!B20),"",J26<I26)
A27: UN: Assess applications | B27: 2 | E27: =B27*7 -> 14 | F27: =G27-$G$12 -> 203 | G27: =I27-(B27*7) -> 44405 | H27: =IF(ISNUMBER(J27),J27-(B27*7-D27*7),I27-(B27*7-D27*7)) -> 44405 | I27: =H28 -> 44419 | K27: =J27<I27 -> TRUE
A28: UN: Interviews 2nd AC | B28: 4 | C28: 2 | D28: 2 | E28: =B28*7 -> 28 | F28: =G28-$G$12 -> 203 | G28: =I28-(B28*7) -> 44405 | H28: =IF(ISNUMBER(J28),J28-(B28*7-D28*7),I28-(B28*7-D28*7)) -> 44419 | I28: =H29 -> 44433 | J28: =IF(ISBLANK('Data input'!B21),"",'Data input'!B21) | K28: =IF(ISBLANK('Data input'!B21),"",J28<I28)
A29: UN: Request external reviews | B29: 10 | C29: 2 | E29: =B29*7 -> 70 | F29: =G29-$G$12 -> 231 | G29: =I29-(B29*7) -> 44433 | H29: =IF(AND(ISNUMBER(J29),J29<I29),J29-(B29*7-D29*7),I29-(B29*7-D29*7)) -> 44433 | I29: =H30 -> 44503 | K29: =J29<I29 -> TRUE
A30: UN: 3rd AC: Shortlist, report | B30: 4 | E30: =B30*7 -> 28 | F30: =G30-$G$12 -> 301 | G30: =I30-(B30*7) -> 44503 | H30: =IF(AND(ISNUMBER(J30),J30<I30),J30-(B30*7-D30*7),I30-(B30*7-D30*7)) -> 44503 | I30: =IF(H31<H34,H31,H34) -> 44531 | J30: =IF(ISBLANK('Data input'!B22),"",'Data input'!B22) | K30: =IF(ISBLANK('Data input'!B22),"",J30<I30)
A31: N: Scientific Adv. Board | B31: 4 | C31: 4 | E31: =B31*7 -> 28 | F31: =G31-$G$12 -> 329 | G31: =I31-(B31*7) -> 44531 | H31: =IF(AND(ISNUMBER(J31),J31<I31),J31-(B31*7-D31*7),I31-(B31*7-D31*7)) -> 44531 | I31: =H32 -> 44559 | J31: =IF(ISBLANK('Data input'!B24),"",'Data input'!B24) | K31: =IF(ISBLANK('Data input'!B24),"",J31<I31)
A32: N: Institute committee | B32: 2 | C32: 2 | E32: =B32*7 -> 14 | F32: =G32-$G$12 -> 357 | G32: =I32-(B32*7) -> 44559 | H32: =IF(AND(ISNUMBER(J32),J32<I32),J32-(B32*7-D32*7),I32-(B32*7-D32*7)) -> 44559 | I32: =H33 -> 44573 | J32: =IF(ISBLANK('Data input'!B25),"",'Data input'!B25) | K32: =IF(ISBLANK('Data input'!B25),"",J32<I32)
A33: N: Board | B33: 1 | C33: 1 | E33: =B33*7 -> 7 | F33: =G33-$G$12 -> 371 | G33: =I33-(B33*7) -> 44573 | H33: =IF(AND(ISNUMBER(J33),J33<I33),J33-(B33*7-D33*7),I33-(B33*7-D33*7)) -> 44573 | I33: =H38 -> 44580 | J33: =IF(ISBLANK('Data input'!B26),"",'Data input'!B26) | K33: =IF(ISBLANK('Data input'!B26),"",J33<I33)
A34: U: Faculty board | B34: 2 | C34: 2 | E34: =B34*7 -> 14 | F34: =G34-$G$12 -> 336 | G34: =I34-(B34*7) -> 44538 | H34: =IF(AND(ISNUMBER(J34),J34<I34),J34-(B34*7-D34*7),I34-(B34*7-D34*7)) -> 44538 | I34: =IF(H35<H36,H35,H36) -> 44552 | J34: =IF(ISBLANK('Data input'!B28),"",'Data input'!B28) | K34: =IF(ISBLANK('Data input'!B28),"",J34<I34)
A35: U: If appl. academic senate | B35: 3 | C35: 2 | E35: =B35*7 -> 21 | F35: =G35-$G$12 -> 350 | G35: =I35-(B35*7) -> 44552 | H35: =IF(AND(ISNUMBER(J35),J35<I35),J35-(B35*7-D35*7),I35-(B35*7-D35*7)) -> 44552 | I35: =H37 -> 44573 | J35: =IF(ISBLANK('Data input'!B29),"",'Data input'!B29) | K35: =IF(ISBLANK('Data input'!B29),"",J35<I35)
A36: U: If appl. President’s office | B36: 3 | E36: =B36*7 -> 21 | F36: =G36-$G$12 -> 350 | G36: =I36-(B36*7) -> 44552 | H36: =IF(AND(ISNUMBER(J36),J36<I36),J36-(B36*7-D36*7),I36-(B36*7-D36*7)) -> 44552 | I36: =H37 -> 44573 | K36: =J36<I36 -> TRUE
A37: U: Executive Board | B37: 2 | C37: 2 | D37: 1 | E37: =B37*7 -> 14 | F37: =G37-$G$12 -> 364 | G37: =I37-(B37*7) -> 44566 | H37: =IF(AND(ISNUMBER(J37),J37<I37),J37-(B37*7-D37*7),I37-(B37*7-D37*7)) -> 44573 | I37: =H38 -> 44580 | J37: =IF(ISBLANK('Data input'!B30),"",'Data input'!B30) | K37: =IF(ISBLANK('Data input'!B30),"",J37<I37)
A38: S: Provisional offer (Ruferteilung) | B38: 4 | E38: =B38*7 -> 28 | F38: =G38-$G$12 -> 378 | G38: =I38-(B38*7) -> 44580 | H38: =IF(ISNUMBER(J38),J38-(B38*7-D38*7),I38-(B38*7-D38*7)) -> 44580 | I38: =H39 -> 44608 | K38: =J38<I38 -> TRUE
A39: N: Negotiations | B39: 1 | E39: =B39*7 -> 7 | F39: =G39-$G$12 -> 406 | G39: =I39-(B39*7) -> 44608 | H39: =IF(ISNUMBER(J39),J39-(B39*7-D39*7),I39-(B39*7-D39*7)) -> 44608 | I39: =H40 -> 44615 | K39: =J39<I39 -> TRUE
A40: UNS: Agreement on pay | B40: 4 | E40: =B40*7 -> 28 | F40: =G40-$G$12 -> 413 | G40: =I40-(B40*7) -> 44615 | H40: =IF(ISNUMBER(J40),J40-(B40*7-D40*7),I40-(B40*7-D40*7)) -> 44615 | I40: =H41 -> 44643 | K40: =J40<I40 -> TRUE
A41: U: If appl. negotiations | B41: 4 | C41: 4 | D41: 2 | E41: =B41*7 -> 28 | F41: =G41-$G$12 -> 427 | G41: =I41-(B41*7) -> 44629 | H41: =IF(ISNUMBER(J41),J41-(B41*7-D41*7),I41-(B41*7-D41*7)) -> 44643 | I41: =H42 -> 44657 | K41: =J41<I41 -> TRUE
A42: UN: Offer | B42: 1 | E42: =B42*7 -> 7 | F42: =G42-$G$12 -> 455 | G42: =I42-(B42*7) -> 44657 | H42: =IF(ISNUMBER(J42),J42-(B42*7-D42*7),I42-(B42*7-D42*7)) -> 44657 | I42: =H43 -> 44664 | K42: =J42<I42 -> TRUE
...

Sheet Tabelle2

Sheet Gantt date

Sheet Gantt in days
